Workbook

Sheet Uitleg
B2: Haeswijk-Digital
B3: Inkomsten en uitgaven per maand
B5: Noteer al je inkomsten en uitgaven op het tabblad Transacties. Op het tabblad Overzicht zie je per categorie en per maand waar je geld vandaan komt en naartoe gaat.
B7: Zo gebruik je dit bestand
B8: 1. Vul op het tabblad Overzicht het jaar in.
B9: 2. Voeg op het tabblad Transacties elke inkomst of uitgave toe met datum, categorie en bedrag.
B10: 3. Bekijk op Overzicht de totalen per maand en het resultaat.
B12: Legenda
B13: Gele cel met blauwe tekst: hier vul je zelf iets in
B14: Witte cel met zwarte tekst: wordt automatisch berekend, niet aanpassen
B16: Dit is een voorbeeldbestand met verzonnen gegevens. Wil je er een op maat voor jouw situatie? Vraag het aan op haeswijk-digital.nl/aanvraag

Sheet Overzicht
A1: Overzicht per maand
A2: Bedragen in euro. Uitgaven als positief bedrag ingevoerd.
A3: Jaar | B3: 2026
A5: Categorie | B5: jan | C5: feb | D5: mrt | E5: apr | F5: mei | G5: jun | H5: jul | I5: aug | J5: sep | K5: okt | L5: nov | M5: dec | N5: Jaar
A6: Omzet | B6: =SUMIFS(Transacties!$E$5:$E$200,Transacties!$C$5:$C$200,$A6,Transacties!$A$5:$A$200,">="&DATE($B$3,1,1),Transacties!$A$5:$A$200,"<"&DATE($B$3,2,1)) -> 4700 | C6: =SUMIFS(Transacties!$E$5:$E$200,Transacties!$C$5:$C$200,$A6,Transacties!$A$5:$A$200,">="&DATE($B$3,2,1),Transacties!$A$5:$A$200,"<"&DATE($B$3,3,1)) -> 4950 | D6: =SUMIFS(Transacties!$E$5:$E$200,Transacties!$C$5:$C$200,$A6,Transacties!$A$5:$A$200,">="&DATE($B$3,3,1),Transacties!$A$5:$A$200,"<"&DATE($B$3,4,1)) -> 5050 | E6: =SUMIFS(Transacties!$E$5:$E$200,Transacties!$C$5:$C$200,$A6,Transacties!$A$5:$A$200,">="&DATE($B$3,4,1),Transacties!$A$5:$A$200,"<"&DATE($B$3,5,1)) -> 5400 | F6: =SUMIFS(Transacties!$E$5:$E$200,Transacties!$C$5:$C$200,$A6,Transacties!$A$5:$A$200,">="&DATE($B$3,5,1),Transacties!$A$5:$A$200,"<"&DATE($B$3,6,1)) -> 5700 | G6: =SUMIFS(Transacties!$E$5:$E$200,Transacties!$C$5:$C$200,$A6,Transacties!$A$5:$A$200,">="&DATE($B$3,6,1),Transacties!$A$5:$A$200,"<"&DATE($B$3,7,1)) -> 6200 | H6: =SUMIFS(Transacties!$E$5:$E$200,Transacties!$C$5:$C$200,$A6,Transacties!$A$5:$A$200,">="&DATE($B$3,7,1),Transacties!$A$5:$A$200,"<"&DATE($B$3,8,1)) -> 0 | I6: =SUMIFS(Transacties!$E$5:$E$200,Transacties!$C$5:$C$200,$A6,Transacties!$A$5:$A$200,">="&DATE($B$3,8,1),Transacties!$A$5:$A$200,"<"&DATE($B$3,9,1)) -> 0 | J6: =SUMIFS(Transacties!$E$5:$E$200,Transacties!$C$5:$C$200,$A6,Transacties!$A$5:$A$200,">="&DATE($B$3,9,1),Transacties!$A$5:$A$200,"<"&DATE($B$3,10,1)) -> 0 | K6: =SUMIFS(Transacties!$E$5:$E$200,Transacties!$C$5:$C$200,$A6,Transacties!$A$5:$A$200,">="&DATE($B$3,10,1),Transacties!$A$5:$A$200,"<"&DATE($B$3,11,1)) -> 0 | L6: =SUMIFS(Transacties!$E$5:$E$200,Transacties!$C$5:$C$200,$A6,Transacties!$A$5:$A$200,">="&DATE($B$3,11,1),Transacties!$A$5:$A$200,"<"&DATE($B$3,12,1)) -> 0 | M6: =SUMIFS(Transacties!$E$5:$E$200,Transacties!$C$5:$C$200,$A6,Transacties!$A$5:$A$200,">="&DATE($B$3,12,1),Transacties!$A$5:$A$200,"<"&DATE($B$3,13,1)) -> 0 | N6: =SUM(B6:M6) -> 32000
A7: Overige inkomsten | B7: =SUMIFS(Transacties!$E$5:$E$200,Transacties!$C$5:$C$200,$A7,Transacties!$A$5:$A$200,">="&DATE($B$3,1,1),Transacties!$A$5:$A$200,"<"&DATE($B$3,2,1)) -> 0 | C7: =SUMIFS(Transacties!$E$5:$E$200,Transacties!$C$5:$C$200,$A7,Transacties!$A$5:$A$200,">="&DATE($B$3,2,1),Transacties!$A$5:$A$200,"<"&DATE($B$3,3,1)) -> 0 | D7: =SUMIFS(Transacties!$E$5:$E$200,Transacties!$C$5:$C$200,$A7,Transacties!$A$5:$A$200,">="&DATE($B$3,3,1),Transacties!$A$5:$A$200,"<"&DATE($B$3,4,1)) -> 0 | E7: =SUMIFS(Transacties!$E$5:$E$200,Transacties!$C$5:$C$200,$A7,Transacties!$A$5:$A$200,">="&DATE($B$3,4,1),Transacties!$A$5:$A$200,"<"&DATE($B$3,5,1)) -> 750 | F7: =SUMIFS(Transacties!$E$5:$E$200,Transacties!$C$5:$C$200,$A7,Transacties!$A$5:$A$200,">="&DATE($B$3,5,1),Transacties!$A$5:$A$200,"<"&DATE($B$3,6,1)) -> 0 | G7: =SUMIFS(Transacties!$E$5:$E$200,Transacties!$C$5:$C$200,$A7,Transacties!$A$5:$A$200,">="&DATE($B$3,6,1),Transacties!$A$5:$A$200,"<"&DATE($B$3,7,1)) -> 0 | H7: =SUMIFS(Transacties!$E$5:$E$200,Transacties!$C$5:$C$200,$A7,Transacties!$A$5:$A$200,">="&DATE($B$3,7,1),Transacties!$A$5:$A$200,"<"&DATE($B$3,8,1)) -> 0 | I7: =SUMIFS(Transacties!$E$5:$E$200,Transacties!$C$5:$C$200,$A7,Transacties!$A$5:$A$200,">="&DATE($B$3,8,1),Transacties!$A$5:$A$200,"<"&DATE($B$3,9,1)) -> 0 | J7: =SUMIFS(Transacties!$E$5:$E$200,Transacties!$C$5:$C$200,$A7,Transacties!$A$5:$A$200,">="&DATE($B$3,9,1),Transacties!$A$5:$A$200,"<"&DATE($B$3,10,1)) -> 0 | K7: =SUMIFS(Transacties!$E$5:$E$200,Transacties!$C$5:$C$200,$A7,Transacties!$A$5:$A$200,">="&DATE($B$3,10,1),Transacties!$A$5:$A$200,"<"&DATE($B$3,11,1)) -> 0 | L7: =SUMIFS(Transacties!$E$5:$E$200,Transacties!$C$5:$C$200,$A7,Transacties!$A$5:$A$200,">="&DATE($B$3,11,1),Transacties!$A$5:$A$200,"<"&DATE($B$3,12,1)) -> 0 | M7: =SUMIFS(Transacties!$E$5:$E$200,Transacties!$C$5:$C$200,$A7,Transacties!$A$5:$A$200,">="&DATE($B$3,12,1),Transacties!$A$5:$A$200,"<"&DATE($B$3,13,1)) -> 0 | N7: =SUM(B7:M7) -> 750
A8: Totaal inkomsten | B8: =B6+B7 -> 4700 | C8: =C6+C7 -> 4950 | D8: =D6+D7 -> 5050 | E8: =E6+E7 -> 6150 | F8: =F6+F7 -> 5700 | G8: =G6+G7 -> 6200 | H8: =H6+H7 -> 0 | I8: =I6+I7 -> 0 | ... M8: =M6+M7 -> 0 | N8: =SUM(B8:M8) -> 32750
A9: Huur | B9: =SUMIFS(Transacties!$E$5:$E$200,Transacties!$C$5:$C$200,$A9,Transacties!$A$5:$A$200,">="&DATE($B$3,1,1),Transacties!$A$5:$A$200,"<"&DATE($B$3,2,1)) -> 650 | C9: =SUMIFS(Transacties!$E$5:$E$200,Transacties!$C$5:$C$200,$A9,Transacties!$A$5:$A$200,">="&DATE($B$3,2,1),Transacties!$A$5:$A$200,"<"&DATE($B$3,3,1)) -> 650 | D9: =SUMIFS(Transacties!$E$5:$E$200,Transacties!$C$5:$C$200,$A9,Transacties!$A$5:$A$200,">="&DATE($B$3,3,1),Transacties!$A$5:$A$200,"<"&DATE($B$3,4,1)) -> 650 | E9: =SUMIFS(Transacties!$E$5:$E$200,Transacties!$C$5:$C$200,$A9,Transacties!$A$5:$A$200,">="&DATE($B$3,4,1),Transacties!$A$5:$A$200,"<"&DATE($B$3,5,1)) -> 650 | F9: =SUMIFS(Transacties!$E$5:$E$200,Transacties!$C$5:$C$200,$A9,Transacties!$A$5:$A$200,">="&DATE($B$3,5,1),Transacties!$A$5:$A$200,"<"&DATE($B$3,6,1)) -> 650 | G9: =SUMIFS(Transacties!$E$5:$E$200,Transacties!$C$5:$C$200,$A9,Transacties!$A$5:$A$200,">="&DATE($B$3,6,1),Transacties!$A$5:$A$200,"<"&DATE($B$3,7,1)) -> 650 | H9: =SUMIFS(Transacties!$E$5:$E$200,Transacties!$C$5:$C$200,$A9,Transacties!$A$5:$A$200,">="&DATE($B$3,7,1),Transacties!$A$5:$A$200,"<"&DATE($B$3,8,1)) -> 0 | I9: =SUMIFS(Transacties!$E$5:$E$200,Transacties!$C$5:$C$200,$A9,Transacties!$A$5:$A$200,">="&DATE($B$3,8,1),Transacties!$A$5:$A$200,"<"&DATE($B$3,9,1)) -> 0 | J9: =SUMIFS(Transacties!$E$5:$E$200,Transacties!$C$5:$C$200,$A9,Transacties!$A$5:$A$200,">="&DATE($B$3,9,1),Transacties!$A$5:$A$200,"<"&DATE($B$3,10,1)) -> 0 | K9: =SUMIFS(Transacties!$E$5:$E$200,Transacties!$C$5:$C$200,$A9,Transacties!$A$5:$A$200,">="&DATE($B$3,10,1),Transacties!$A$5:$A$200,"<"&DATE($B$3,11,1)) -> 0 | L9: =SUMIFS(Transacties!$E$5:$E$200,Transacties!$C$5:$C$200,$A9,Transacties!$A$5:$A$200,">="&DATE($B$3,11,1),Transacties!$A$5:$A$200,"<"&DATE($B$3,12,1)) -> 0 | M9: =SUMIFS(Transacties!$E$5:$E$200,Transacties!$C$5:$C$200,$A9,Transacties!$A$5:$A$200,">="&DATE($B$3,12,1),Transacties!$A$5:$A$200,"<"&DATE($B$3,13,1)) -> 0 | N9: =SUM(B9:M9) -> 3900
A10: Software | B10: =SUMIFS(Transacties!$E$5:$E$200,Transacties!$C$5:$C$200,$A10,Transacties!$A$5:$A$200,">="&DATE($B$3,1,1),Transacties!$A$5:$A$200,"<"&DATE($B$3,2,1)) -> 89 | C10: =SUMIFS(Transacties!$E$5:$E$200,Transacties!$C$5:$C$200,$A10,Transacties!$A$5:$A$200,">="&DATE($B$3,2,1),Transacties!$A$5:$A$200,"<"&DATE($B$3,3,1)) -> 89 | D10: =SUMIFS(Transacties!$E$5:$E$200,Transacties!$C$5:$C$200,$A10,Transacties!$A$5:$A$200,">="&DATE($B$3,3,1),Transacties!$A$5:$A$200,"<"&DATE($B$3,4,1)) -> 89 | E10: =SUMIFS(Transacties!$E$5:$E$200,Transacties!$C$5:$C$200,$A10,Transacties!$A$5:$A$200,">="&DATE($B$3,4,1),Transacties!$A$5:$A$200,"<"&DATE($B$3,5,1)) -> 89 | F10: =SUMIFS(Transacties!$E$5:$E$200,Transacties!$C$5:$C$200,$A10,Transacties!$A$5:$A$200,">="&DATE($B$3,5,1),Transacties!$A$5:$A$200,"<"&DATE($B$3,6,1)) -> 89 | G10: =SUMIFS(Transacties!$E$5:$E$200,Transacties!$C$5:$C$200,$A10,Transacties!$A$5:$A$200,">="&DATE($B$3,6,1),Transacties!$A$5:$A$200,"<"&DATE($B$3,7,1)) -> 89 | H10: =SUMIFS(Transacties!$E$5:$E$200,Transacties!$C$5:$C$200,$A10,Transacties!$A$5:$A$200,">="&DATE($B$3,7,1),Transacties!$A$5:$A$200,"<"&DATE($B$3,8,1)) -> 0 | I10: =SUMIFS(Transacties!$E$5:$E$200,Transacties!$C$5:$C$200,$A10,Transacties!$A$5:$A$200,">="&DATE($B$3,8,1),Transacties!$A$5:$A$200,"<"&DATE($B$3,9,1)) -> 0 | J10: =SUMIFS(Transacties!$E$5:$E$200,Transacties!$C$5:$C$200,$A10,Transacties!$A$5:$A$200,">="&DATE($B$3,9,1),Transacties!$A$5:$A$200,"<"&DATE($B$3,10,1)) -> 0 | K10: =SUMIFS(Transacties!$E$5:$E$200,Transacties!$C$5:$C$200,$A10,Transacties!$A$5:$A$200,">="&DATE($B$3,10,1),Transacties!$A$5:$A$200,"<"&DATE($B$3,11,1)) -> 0 | L10: =SUMIFS(Transacties!$E$5:$E$200,Transacties!$C$5:$C$200,$A10,Transacties!$A$5:$A$200,">="&DATE($B$3,11,1),Transacties!$A$5:$A$200,"<"&DATE($B$3,12,1)) -> 0 | M10: =SUMIFS(Transacties!$E$5:$E$200,Transacties!$C$5:$C$200,$A10,Transacties!$A$5:$A$200,">="&DATE($B$3,12,1),Transacties!$A$5:$A$200,"<"&DATE($B$3,13,1)) -> 0 | N10: =SUM(B10:M10) -> 534
A11: Marketing | B11: =SUMIFS(Transacties!$E$5:$E$200,Transacties!$C$5:$C$200,$A11,Transacties!$A$5:$A$200,">="&DATE($B$3,1,1),Transacties!$A$5:$A$200,"<"&DATE($B$3,2,1)) -> 250 | C11: =SUMIFS(Transacties!$E$5:$E$200,Transacties!$C$5:$C$200,$A11,Transacties!$A$5:$A$200,">="&DATE($B$3,2,1),Transacties!$A$5:$A$200,"<"&DATE($B$3,3,1)) -> 180 | D11: =SUMIFS(Transacties!$E$5:$E$200,Transacties!$C$5:$C$200,$A11,Transacties!$A$5:$A$200,">="&DATE($B$3,3,1),Transacties!$A$5:$A$200,"<"&DATE($B$3,4,1)) -> 320 | E11: =SUMIFS(Transacties!$E$5:$E$200,Transacties!$C$5:$C$200,$A11,Transacties!$A$5:$A$200,">="&DATE($B$3,4,1),Transacties!$A$5:$A$200,"<"&DATE($B$3,5,1)) -> 200 | F11: =SUMIFS(Transacties!$E$5:$E$200,Transacties!$C$5:$C$200,$A11,Transacties!$A$5:$A$200,">="&DATE($B$3,5,1),Transacties!$A$5:$A$200,"<"&DATE($B$3,6,1)) -> 410 | G11: =SUMIFS(Transacties!$E$5:$E$200,Transacties!$C$5:$C$200,$A11,Transacties!$A$5:$A$200,">="&DATE($B$3,6,1),Transacties!$A$5:$A$200,"<"&DATE($B$3,7,1)) -> 260 | H11: =SUMIFS(Transacties!$E$5:$E$200,Transacties!$C$5:$C$200,$A11,Transacties!$A$5:$A$200,">="&DATE($B$3,7,1),Transacties!$A$5:$A$200,"<"&DATE($B$3,8,1)) -> 0 | I11: =SUMIFS(Transacties!$E$5:$E$200,Transacties!$C$5:$C$200,$A11,Transacties!$A$5:$A$200,">="&DATE($B$3,8,1),Transacties!$A$5:$A$200,"<"&DATE($B$3,9,1)) -> 0 | J11: =SUMIFS(Transacties!$E$5:$E$200,Transacties!$C$5:$C$200,$A11,Transacties!$A$5:$A$200,">="&DATE($B$3,9,1),Transacties!$A$5:$A$200,"<"&DATE($B$3,10,1)) -> 0 | K11: =SUMIFS(Transacties!$E$5:$E$200,Transacties!$C$5:$C$200,$A11,Transacties!$A$5:$A$200,">="&DATE($B$3,10,1),Transacties!$A$5:$A$200,"<"&DATE($B$3,11,1)) -> 0 | L11: =SUMIFS(Transacties!$E$5:$E$200,Transacties!$C$5:$C$200,$A11,Transacties!$A$5:$A$200,">="&DATE($B$3,11,1),Transacties!$A$5:$A$200,"<"&DATE($B$3,12,1)) -> 0 | M11: =SUMIFS(Transacties!$E$5:$E$200,Transacties!$C$5:$C$200,$A11,Transacties!$A$5:$A$200,">="&DATE($B$3,12,1),Transacties!$A$5:$A$200,"<"&DATE($B$3,13,1)) -> 0 | N11: =SUM(B11:M11) -> 1620
A12: Reiskosten | B12: =SUMIFS(Transacties!$E$5:$E$200,Transacties!$C$5:$C$200,$A12,Transacties!$A$5:$A$200,">="&DATE($B$3,1,1),Transacties!$A$5:$A$200,"<"&DATE($B$3,2,1)) -> 64 | C12: =SUMIFS(Transacties!$E$5:$E$200,Transacties!$C$5:$C$200,$A12,Transacties!$A$5:$A$200,">="&DATE($B$3,2,1),Transacties!$A$5:$A$200,"<"&DATE($B$3,3,1)) -> 92 | D12: =SUMIFS(Transacties!$E$5:$E$200,Transacties!$C$5:$C$200,$A12,Transacties!$A$5:$A$200,">="&DATE($B$3,3,1),Transacties!$A$5:$A$200,"<"&DATE($B$3,4,1)) -> 48 | E12: =SUMIFS(Transacties!$E$5:$E$200,Transacties!$C$5:$C$200,$A12,Transacties!$A$5:$A$200,">="&DATE($B$3,4,1),Transacties!$A$5:$A$200,"<"&DATE($B$3,5,1)) -> 120 | F12: =SUMIFS(Transacties!$E$5:$E$200,Transacties!$C$5:$C$200,$A12,Transacties!$A$5:$A$200,">="&DATE($B$3,5,1),Transacties!$A$5:$A$200,"<"&DATE($B$3,6,1)) -> 76 | G12: =SUMIFS(Transacties!$E$5:$E$200,Transacties!$C$5:$C$200,$A12,Transacties!$A$5:$A$200,">="&DATE($B$3,6,1),Transacties!$A$5:$A$200,"<"&DATE($B$3,7,1)) -> 58 | H12: =SUMIFS(Transacties!$E$5:$E$200,Transacties!$C$5:$C$200,$A12,Transacties!$A$5:$A$200,">="&DATE($B$3,7,1),Transacties!$A$5:$A$200,"<"&DATE($B$3,8,1)) -> 0 | I12: =SUMIFS(Transacties!$E$5:$E$200,Transacties!$C$5:$C$200,$A12,Transacties!$A$5:$A$200,">="&DATE($B$3,8,1),Transacties!$A$5:$A$200,"<"&DATE($B$3,9,1)) -> 0 | J12: =SUMIFS(Transacties!$E$5:$E$200,Transacties!$C$5:$C$200,$A12,Transacties!$A$5:$A$200,">="&DATE($B$3,9,1),Transacties!$A$5:$A$200,"<"&DATE($B$3,10,1)) -> 0 | K12: =SUMIFS(Transacties!$E$5:$E$200,Transacties!$C$5:$C$200,$A12,Transacties!$A$5:$A$200,">="&DATE($B$3,10,1),Transacties!$A$5:$A$200,"<"&DATE($B$3,11,1)) -> 0 | L12: =SUMIFS(Transacties!$E$5:$E$200,Transacties!$C$5:$C$200,$A12,Transacties!$A$5:$A$200,">="&DATE($B$3,11,1),Transacties!$A$5:$A$200,"<"&DATE($B$3,12,1)) -> 0 | M12: =SUMIFS(Transacties!$E$5:$E$200,Transacties!$C$5:$C$200,$A12,Transacties!$A$5:$A$200,">="&DATE($B$3,12,1),Transacties!$A$5:$A$200,"<"&DATE($B$3,13,1)) -> 0 | N12: =SUM(B12:M12) -> 458
A13: Kantoor | B13: =SUMIFS(Transacties!$E$5:$E$200,Transacties!$C$5:$C$200,$A13,Transacties!$A$5:$A$200,">="&DATE($B$3,1,1),Transacties!$A$5:$A$200,"<"&DATE($B$3,2,1)) -> 0 | C13: =SUMIFS(Transacties!$E$5:$E$200,Transacties!$C$5:$C$200,$A13,Transacties!$A$5:$A$200,">="&DATE($B$3,2,1),Transacties!$A$5:$A$200,"<"&DATE($B$3,3,1)) -> 1149 | D13: =SUMIFS(Transacties!$E$5:$E$200,Transacties!$C$5:$C$200,$A13,Transacties!$A$5:$A$200,">="&DATE($B$3,3,1),Transacties!$A$5:$A$200,"<"&DATE($B$3,4,1)) -> 0 | E13: =SUMIFS(Transacties!$E$5:$E$200,Transacties!$C$5:$C$200,$A13,Transacties!$A$5:$A$200,">="&DATE($B$3,4,1),Transacties!$A$5:$A$200,"<"&DATE($B$3,5,1)) -> 0 | F13: =SUMIFS(Transacties!$E$5:$E$200,Transacties!$C$5:$C$200,$A13,Transacties!$A$5:$A$200,">="&DATE($B$3,5,1),Transacties!$A$5:$A$200,"<"&DATE($B$3,6,1)) -> 0 | G13: =SUMIFS(Transacties!$E$5:$E$200,Transacties!$C$5:$C$200,$A13,Transacties!$A$5:$A$200,">="&DATE($B$3,6,1),Transacties!$A$5:$A$200,"<"&DATE($B$3,7,1)) -> 0 | H13: =SUMIFS(Transacties!$E$5:$E$200,Transacties!$C$5:$C$200,$A13,Transacties!$A$5:$A$200,">="&DATE($B$3,7,1),Transacties!$A$5:$A$200,"<"&DATE($B$3,8,1)) -> 0 | I13: =SUMIFS(Transacties!$E$5:$E$200,Transacties!$C$5:$C$200,$A13,Transacties!$A$5:$A$200,">="&DATE($B$3,8,1),Transacties!$A$5:$A$200,"<"&DATE($B$3,9,1)) -> 0 | J13: =SUMIFS(Transacties!$E$5:$E$200,Transacties!$C$5:$C$200,$A13,Transacties!$A$5:$A$200,">="&DATE($B$3,9,1),Transacties!$A$5:$A$200,"<"&DATE($B$3,10,1)) -> 0 | K13: =SUMIFS(Transacties!$E$5:$E$200,Transacties!$C$5:$C$200,$A13,Transacties!$A$5:$A$200,">="&DATE($B$3,10,1),Transacties!$A$5:$A$200,"<"&DATE($B$3,11,1)) -> 0 | L13: =SUMIFS(Transacties!$E$5:$E$200,Transacties!$C$5:$C$200,$A13,Transacties!$A$5:$A$200,">="&DATE($B$3,11,1),Transacties!$A$5:$A$200,"<"&DATE($B$3,12,1)) -> 0 | M13: =SUMIFS(Transacties!$E$5:$E$200,Transacties!$C$5:$C$200,$A13,Transacties!$A$5:$A$200,">="&DATE($B$3,12,1),Transacties!$A$5:$A$200,"<"&DATE($B$3,13,1)) -> 0 | N13: =SUM(B13:M13) -> 1149
A14: Totaal uitgaven | B14: =SUM(B9:B13) -> 1053 | C14: =SUM(C9:C13) -> 2160 | D14: =SUM(D9:D13) -> 1107 | E14: =SUM(E9:E13) -> 1059 | F14: =SUM(F9:F13) -> 1225 | G14: =SUM(G9:G13) -> 1057 | H14: =SUM(H9:H13) -> 0 | I14: =SUM(I9:I13) -> 0 | ... M14: =SUM(M9:M13) -> 0 | N14: =SUM(B14:M14) -> 7661
A15: Resultaat | B15: =B8-B14 -> 3647 | C15: =C8-C14 -> 2790 | D15: =D8-D14 -> 3943 | E15: =E8-E14 -> 5091 | F15: =F8-F14 -> 4475 | G15: =G8-G14 -> 5143 | H15: =H8-H14 -> 0 | I15: =I8-I14 -> 0 | ... M15: =M8-M14 -> 0 | N15: =SUM(B15:M15) -> 25089
A17: Gele cellen vul je zelf in. Witte cellen rekenen automatisch.

Sheet Transacties
A1: Transacties
A2: Voeg onderaan nieuwe regels toe (tot regel 200).
A4: Datum | B4: Omschrijving | C4: Categorie | D4: Soort | E4: Bedrag
A5: 46023 | B5: Huur kantoor | C5: Huur | D5: Uitgave | E5: 650
A6: 46025 | B6: Software-abonnementen | C6: Software | D6: Uitgave | E6: 89
A7: 46037 | B7: Factuur klant 1A | C7: Omzet | D7: Inkomst | E7: 3200
A8: 46040 | B8: Advertenties | C8: Marketing | D8: Uitgave | E8: 250
A9: 46044 | B9: Factuur klant 1B | C9: Omzet | D9: Inkomst | E9: 1500
A10: 46047 | B10: Treinreizen | C10: Reiskosten | D10: Uitgave | E10: 64
A11: 46054 | B11: Huur kantoor | C11: Huur | D11: Uitgave | E11: 650
A12: 46056 | B12: Software-abonnementen | C12: Software | D12: Uitgave | E12: 89
A13: 46063 | B13: Laptop | C13: Kantoor | D13: Uitgave | E13: 1149
A14: 46068 | B14: Factuur klant 2A | C14: Omzet | D14: Inkomst | E14: 2850
A15: 46071 | B15: Advertenties | C15: Marketing | D15: Uitgave | E15: 180
A16: 46075 | B16: Factuur klant 2B | C16: Omzet | D16: Inkomst | E16: 2100
... A42: 46198 | B42: Treinreizen | C42: Reiskosten | D42: Uitgave | E42: 58
